BEGIN:VCALENDAR
VERSION:2.0
PRODID:spatie/icalendar-generator
DESCRIPTION:Évènements de Résidence Salvagny
X-WR-CALDESC:Évènements de Résidence Salvagny
REFRESH-INTERVAL;VALUE=DURATION:PT1440M
X-PUBLISHED-TTL:PT1440M
BEGIN:VTIMEZONE
TZID:Etc/GMT-1
BEGIN:STANDARD
DTSTART:20150807T203000Z
TZOFFSETFROM:+0100
TZOFFSETTO:+0100
END:STANDARD
END:VTIMEZONE
BEGIN:VTIMEZONE
TZID:UTC
BEGIN:STANDARD
DTSTART:20250729T151901Z
TZOFFSETFROM:+0000
TZOFFSETTO:+0000
END:STANDARD
END:VTIMEZONE
BEGIN:VEVENT
UID:142-88
DTSTAMP:20260425T151901Z
SUMMARY:Conférence : Un regard nouveau sur le soleil
LOCATION:Résidence Salvagny 37 rue Chevreul  Lyon  69007
ORGANIZER;CN=admin_salvagny:MAILTO:g.traglia@ad-imagine.fr
DTSTART;TZID=Etc/GMT-1:20160503T203000
DTEND;TZID=Etc/GMT-1:20160503T220000
X-ALT-DESC;FMTTYPE=TEXT/HTML:Avec Antoine Llebaria.
CATEGORIES:Activités culturelles
URL;VALUE=URI:https://www.residence-salvagny.org/mc-events/conference-un-re
 gard-nouveau-sur-le-soleil/
METHOD:PUBLISH
END:VEVENT
END:VCALENDAR