BEGIN:VCALENDAR
VERSION:2.0
PRODID:spatie/icalendar-generator
DESCRIPTION:Évènements de Résidence Salvagny
X-WR-CALDESC:Évènements de Résidence Salvagny
REFRESH-INTERVAL;VALUE=DURATION:PT1440M
X-PUBLISHED-TTL:PT1440M
BEGIN:VTIMEZONE
TZID:Etc/GMT-1
BEGIN:STANDARD
DTSTART:20160422T203000Z
TZOFFSETFROM:+0100
TZOFFSETTO:+0100
END:STANDARD
END:VTIMEZONE
BEGIN:VTIMEZONE
TZID:UTC
BEGIN:STANDARD
DTSTART:20250729T165039Z
TZOFFSETFROM:+0000
TZOFFSETTO:+0000
END:STANDARD
END:VTIMEZONE
BEGIN:VEVENT
UID:171-113
DTSTAMP:20260425T165039Z
SUMMARY:Conférence : Conduites à risque et addiction - L'exemple du cann
 abis
LOCATION:Résidence Salvagny 37 rue Chevreul  Lyon  69007
ORGANIZER;CN=admin_salvagny:MAILTO:g.traglia@ad-imagine.fr
DTSTART;TZID=Etc/GMT-1:20170117T203000
DTEND;TZID=Etc/GMT-1:20170117T220000
X-ALT-DESC;FMTTYPE=TEXT/HTML:Par le Dr Gaspard Beaune\, Pharmacien biologis
 te toxicologue\, expert en toxicologie près la cour d'Appel de Chambéry.
  La consommation du cannabis est devenue depuis ces dernières années un 
 fléau et un problème majeur de santé publique. Presque un Français sur
  deux de moins de 30 ans a déjà consommé au moins un joint dans sa…
CATEGORIES:Activités culturelles
URL;VALUE=URI:https://www.residence-salvagny.org/mc-events/conference-condu
 ites-a-risque-et-addiction-lexemple-du-cannabis/
METHOD:PUBLISH
END:VEVENT
END:VCALENDAR