BEGIN:VCALENDAR
VERSION:2.0
PRODID:spatie/icalendar-generator
DESCRIPTION:Évènements de Résidence Salvagny
X-WR-CALDESC:Évènements de Résidence Salvagny
REFRESH-INTERVAL;VALUE=DURATION:PT1440M
X-PUBLISHED-TTL:PT1440M
BEGIN:VTIMEZONE
TZID:Etc/GMT-1
BEGIN:STANDARD
DTSTART:20140703T190000Z
TZOFFSETFROM:+0100
TZOFFSETTO:+0100
END:STANDARD
END:VTIMEZONE
BEGIN:VTIMEZONE
TZID:UTC
BEGIN:STANDARD
DTSTART:20250729T164929Z
TZOFFSETFROM:+0000
TZOFFSETTO:+0000
END:STANDARD
END:VTIMEZONE
BEGIN:VEVENT
UID:25-11
DTSTAMP:20260425T164929Z
SUMMARY:Le plan de Dieu pour ma vie
LOCATION:Résidence Salvagny 37 rue Chevreul  Lyon  69007
ORGANIZER;CN=admin_salvagny:MAILTO:g.traglia@ad-imagine.fr
DTSTART;TZID=Etc/GMT-1:20150330T190000
DTEND;TZID=Etc/GMT-1:20150330T203000
X-ALT-DESC;FMTTYPE=TEXT/HTML:Récollection pour messieurs Thème : Le plan 
 de Dieu pour ma vie
CATEGORIES:Formation chrétienne pour messieurs
URL;VALUE=URI:https://www.residence-salvagny.org/mc-events/le-plan-de-dieu-
 pour-ma-vie/
METHOD:PUBLISH
END:VEVENT
END:VCALENDAR