BEGIN:VCALENDAR
VERSION:2.0
PRODID:spatie/icalendar-generator
DESCRIPTION:Évènements de Résidence Salvagny
X-WR-CALDESC:Évènements de Résidence Salvagny
REFRESH-INTERVAL;VALUE=DURATION:PT1440M
X-PUBLISHED-TTL:PT1440M
BEGIN:VTIMEZONE
TZID:Etc/GMT-1
BEGIN:STANDARD
DTSTART:20230312T000000Z
TZOFFSETFROM:+0100
TZOFFSETTO:+0100
END:STANDARD
END:VTIMEZONE
BEGIN:VTIMEZONE
TZID:UTC
BEGIN:STANDARD
DTSTART:20250729T152531Z
TZOFFSETFROM:+0000
TZOFFSETTO:+0000
END:STANDARD
END:VTIMEZONE
BEGIN:VEVENT
UID:290-208
DTSTAMP:20260425T152531Z
SUMMARY:Retraite spirituelle pour messieurs à Rocherey
LOCATION:Rocherey 601 chemin du château  Saint-Laurent-du-pont  38380
ORGANIZER;CN=Vincent:MAILTO:vincent@residence-salvagny.org
DTSTART;TZID=Etc/GMT-1;VALUE=DATE:20231207
DTEND;TZID=Etc/GMT-1;VALUE=DATE:20231211
X-ALT-DESC;FMTTYPE=TEXT/HTML:Rocherey est une maison située à Saint-Laure
 nt-du-Pont (38380)\, à 100 km de Lyon Pour plus d'information\, écrivez-
 nous à l'adresse contact@residence-salvagny.org
CATEGORIES:Formation chrétienne pour messieurs
URL;VALUE=URI:https://www.residence-salvagny.org/mc-events/retraite-spiritu
 elle-pour-messieurs-a-puyricard/
METHOD:PUBLISH
END:VEVENT
END:VCALENDAR