BEGIN:VCALENDAR
VERSION:2.0
PRODID:spatie/icalendar-generator
DESCRIPTION:Évènements de Résidence Salvagny
X-WR-CALDESC:Évènements de Résidence Salvagny
REFRESH-INTERVAL;VALUE=DURATION:PT1440M
X-PUBLISHED-TTL:PT1440M
BEGIN:VTIMEZONE
TZID:Etc/GMT-1
BEGIN:STANDARD
DTSTART:20220708T203000Z
TZOFFSETFROM:+0100
TZOFFSETTO:+0100
END:STANDARD
END:VTIMEZONE
BEGIN:VTIMEZONE
TZID:UTC
BEGIN:STANDARD
DTSTART:20250729T182340Z
TZOFFSETFROM:+0000
TZOFFSETTO:+0000
END:STANDARD
END:VTIMEZONE
BEGIN:VEVENT
UID:313-229
DTSTAMP:20260425T182340Z
SUMMARY:Conférence (animée par Patrick Louis) : les ressources naturelles
 \, un enjeu géopolitique majeur
LOCATION:Résidence Salvagny 37 rue Chevreul  Lyon  69007
ORGANIZER;CN=Vincent:MAILTO:vincent@residence-salvagny.org
DTSTART;TZID=Etc/GMT-1:20230404T203000
DTEND;TZID=Etc/GMT-1:20230404T220000
X-ALT-DESC;FMTTYPE=TEXT/HTML:Patrick Louis\, homme politique\, ancien profe
 sseur de géopolitique à l'université de Lyon III
CATEGORIES:Activités culturelles
URL;VALUE=URI:https://www.residence-salvagny.org/mc-events/conference-anime
 e-par-patrick-louis-les-ressources-naturelles-un-enjeu-geopolitique-majeur
 /
METHOD:PUBLISH
END:VEVENT
END:VCALENDAR