BEGIN:VCALENDAR
VERSION:2.0
PRODID:spatie/icalendar-generator
DESCRIPTION:Évènements de Résidence Salvagny
X-WR-CALDESC:Évènements de Résidence Salvagny
REFRESH-INTERVAL;VALUE=DURATION:PT1440M
X-PUBLISHED-TTL:PT1440M
BEGIN:VTIMEZONE
TZID:Etc/GMT-1
BEGIN:STANDARD
DTSTART:20240323T193000Z
TZOFFSETFROM:+0100
TZOFFSETTO:+0100
END:STANDARD
END:VTIMEZONE
BEGIN:VTIMEZONE
TZID:UTC
BEGIN:STANDARD
DTSTART:20250729T165029Z
TZOFFSETFROM:+0000
TZOFFSETTO:+0000
END:STANDARD
END:VTIMEZONE
BEGIN:VEVENT
UID:401-317
DTSTAMP:20260425T165029Z
SUMMARY:Récollection pour messieurs
LOCATION:Résidence Salvagny 37 rue Chevreul  Lyon  69007
ORGANIZER;CN=Vincent:MAILTO:vincent@residence-salvagny.org
DTSTART;TZID=Etc/GMT-1:20241218T193000
DTEND;TZID=Etc/GMT-1:20241218T210000
X-ALT-DESC;FMTTYPE=TEXT/HTML:La Visitation : le service\, expression de la 
 charité La sainte famille\, modèle de toutes les familles
CATEGORIES:Formation chrétienne pour messieurs
URL;VALUE=URI:https://www.residence-salvagny.org/mc-events/recollection-pou
 r-messieurs-20/
METHOD:PUBLISH
END:VEVENT
END:VCALENDAR