BEGIN:VCALENDAR
VERSION:2.0
PRODID:spatie/icalendar-generator
DESCRIPTION:Évènements de Résidence Salvagny
X-WR-CALDESC:Évènements de Résidence Salvagny
REFRESH-INTERVAL;VALUE=DURATION:PT1440M
X-PUBLISHED-TTL:PT1440M
BEGIN:VTIMEZONE
TZID:Etc/GMT-1
BEGIN:STANDARD
DTSTART:20240413T193000Z
TZOFFSETFROM:+0100
TZOFFSETTO:+0100
END:STANDARD
END:VTIMEZONE
BEGIN:VTIMEZONE
TZID:UTC
BEGIN:STANDARD
DTSTART:20250729T194713Z
TZOFFSETFROM:+0000
TZOFFSETTO:+0000
END:STANDARD
END:VTIMEZONE
BEGIN:VEVENT
UID:403-319
DTSTAMP:20260425T194713Z
SUMMARY:Récollection pour messieurs
LOCATION:Résidence Salvagny 37 rue Chevreul  Lyon  69007
ORGANIZER;CN=Vincent:MAILTO:vincent@residence-salvagny.org
DTSTART;TZID=Etc/GMT-1:20250108T193000
DTEND;TZID=Etc/GMT-1:20250108T210000
X-ALT-DESC;FMTTYPE=TEXT/HTML:Temps de Noël : la grandeur de la vie ordinai
 re Être disciple : l'amitié avec Jésus
CATEGORIES:Formation chrétienne pour messieurs
URL;VALUE=URI:https://www.residence-salvagny.org/mc-events/recollection-pou
 r-messieurs-22/
METHOD:PUBLISH
END:VEVENT
END:VCALENDAR