BEGIN:VCALENDAR
VERSION:2.0
PRODID:spatie/icalendar-generator
DESCRIPTION:Évènements de Résidence Salvagny
X-WR-CALDESC:Évènements de Résidence Salvagny
REFRESH-INTERVAL;VALUE=DURATION:PT1440M
X-PUBLISHED-TTL:PT1440M
BEGIN:VTIMEZONE
TZID:Etc/GMT-1
BEGIN:STANDARD
DTSTART:20140821T190000Z
TZOFFSETFROM:+0100
TZOFFSETTO:+0100
END:STANDARD
END:VTIMEZONE
BEGIN:VTIMEZONE
TZID:UTC
BEGIN:STANDARD
DTSTART:20250729T164009Z
TZOFFSETFROM:+0000
TZOFFSETTO:+0000
END:STANDARD
END:VTIMEZONE
BEGIN:VEVENT
UID:11-8
DTSTAMP:20260425T164009Z
SUMMARY:Le mariage\, vocation chrétienne
LOCATION:Résidence Salvagny 37 rue Chevreul  Lyon  69007
ORGANIZER;CN=admin_salvagny:MAILTO:g.traglia@ad-imagine.fr
DTSTART;TZID=Etc/GMT-1:20150518T190000
DTEND;TZID=Etc/GMT-1:20150518T203000
X-ALT-DESC;FMTTYPE=TEXT/HTML:Récollection pour messieurs Thème : Le maria
 ge\, vocation chrétienne
CATEGORIES:Formation chrétienne pour messieurs
URL;VALUE=URI:https://www.residence-salvagny.org/mc-events/le-mariage-vocat
 ion-chretienne/
METHOD:PUBLISH
END:VEVENT
END:VCALENDAR