BEGIN:VCALENDAR
VERSION:2.0
PRODID:spatie/icalendar-generator
DESCRIPTION:Évènements de Résidence Salvagny
X-WR-CALDESC:Évènements de Résidence Salvagny
REFRESH-INTERVAL;VALUE=DURATION:PT1440M
X-PUBLISHED-TTL:PT1440M
BEGIN:VTIMEZONE
TZID:Etc/GMT-1
BEGIN:STANDARD
DTSTART:20150929T113000Z
TZOFFSETFROM:+0100
TZOFFSETTO:+0100
END:STANDARD
END:VTIMEZONE
BEGIN:VTIMEZONE
TZID:UTC
BEGIN:STANDARD
DTSTART:20250729T164639Z
TZOFFSETFROM:+0000
TZOFFSETTO:+0000
END:STANDARD
END:VTIMEZONE
BEGIN:VEVENT
UID:145-89
DTSTAMP:20260425T164639Z
SUMMARY:Messe (fête de saint Josémaria)
LOCATION:église saint Pothin Place Edgar Quinet\, Lyon (6e)
ORGANIZER;CN=admin_salvagny:MAILTO:g.traglia@ad-imagine.fr
DTSTART;TZID=Etc/GMT-1:20160625T113000
DTEND;TZID=Etc/GMT-1:20160625T123000
X-ALT-DESC;FMTTYPE=TEXT/HTML:
CATEGORIES:Activités culturelles
URL;VALUE=URI:https://www.residence-salvagny.org/mc-events/messe-fete-de-sa
 int-josemaria/
METHOD:PUBLISH
END:VEVENT
END:VCALENDAR