BEGIN:VCALENDAR
VERSION:2.0
PRODID:spatie/icalendar-generator
DESCRIPTION:Évènements de Résidence Salvagny
X-WR-CALDESC:Évènements de Résidence Salvagny
REFRESH-INTERVAL;VALUE=DURATION:PT1440M
X-PUBLISHED-TTL:PT1440M
BEGIN:VTIMEZONE
TZID:Etc/GMT-1
BEGIN:STANDARD
DTSTART:20190709T110000Z
TZOFFSETFROM:+0100
TZOFFSETTO:+0100
END:STANDARD
END:VTIMEZONE
BEGIN:VTIMEZONE
TZID:UTC
BEGIN:STANDARD
DTSTART:20250729T164752Z
TZOFFSETFROM:+0000
TZOFFSETTO:+0000
END:STANDARD
END:VTIMEZONE
BEGIN:VEVENT
UID:223-165
DTSTAMP:20260425T164752Z
SUMMARY:Récollection étudiants
LOCATION:Résidence Salvagny 37 rue Chevreul  Lyon  69007
ORGANIZER;CN=admin_salvagny:MAILTO:g.traglia@ad-imagine.fr
DTSTART;TZID=Etc/GMT-1:20200404T110000
DTEND;TZID=Etc/GMT-1:20200404T121500
X-ALT-DESC;FMTTYPE=TEXT/HTML:
CATEGORIES:Formation chrétienne pour étudiants
URL;VALUE=URI:https://www.residence-salvagny.org/mc-events/recollection-etu
 diants-35/
METHOD:PUBLISH
END:VEVENT
END:VCALENDAR