BEGIN:VCALENDAR
VERSION:2.0
PRODID:spatie/icalendar-generator
DESCRIPTION:Évènements de Résidence Salvagny
X-WR-CALDESC:Évènements de Résidence Salvagny
REFRESH-INTERVAL;VALUE=DURATION:PT1440M
X-PUBLISHED-TTL:PT1440M
BEGIN:VTIMEZONE
TZID:Etc/GMT-1
BEGIN:STANDARD
DTSTART:20150122T190000Z
TZOFFSETFROM:+0100
TZOFFSETTO:+0100
END:STANDARD
END:VTIMEZONE
BEGIN:VTIMEZONE
TZID:UTC
BEGIN:STANDARD
DTSTART:20250729T171400Z
TZOFFSETFROM:+0000
TZOFFSETTO:+0000
END:STANDARD
END:VTIMEZONE
BEGIN:VEVENT
UID:27-18
DTSTAMP:20260425T171400Z
SUMMARY:Récollection messieurs
LOCATION:Résidence Salvagny 37 rue Chevreul  Lyon  69007
ORGANIZER;CN=admin_salvagny:MAILTO:g.traglia@ad-imagine.fr
DTSTART;TZID=Etc/GMT-1:20151019T190000
DTEND;TZID=Etc/GMT-1:20151019T203000
X-ALT-DESC;FMTTYPE=TEXT/HTML:Thème principal : chrétiens pour sanctifier 
 le monde de l'intérieur. La vocation propre des laïcs consiste à cherch
 er le règne de Dieu précisément à travers la gérance des choses tempo
 relles qu'ils ordonnent selon Dieu. Ils vivent au milieu du siècle\, c'es
 t-à-dire engagés dans tous les divers devoirs et travaux du monde\, dans
  les conditions ordinaires…
CATEGORIES:Formation chrétienne pour messieurs
URL;VALUE=URI:https://www.residence-salvagny.org/mc-events/recollection-mes
 sieurs-5/
METHOD:PUBLISH
END:VEVENT
END:VCALENDAR