BEGIN:VCALENDAR
VERSION:2.0
PRODID:spatie/icalendar-generator
DESCRIPTION:Évènements de Résidence Salvagny
X-WR-CALDESC:Évènements de Résidence Salvagny
REFRESH-INTERVAL;VALUE=DURATION:PT1440M
X-PUBLISHED-TTL:PT1440M
BEGIN:VTIMEZONE
TZID:Etc/GMT-1
BEGIN:STANDARD
DTSTART:20221201T190000Z
TZOFFSETFROM:+0100
TZOFFSETTO:+0100
END:STANDARD
END:VTIMEZONE
BEGIN:VTIMEZONE
TZID:UTC
BEGIN:STANDARD
DTSTART:20250729T164640Z
TZOFFSETFROM:+0000
TZOFFSETTO:+0000
END:STANDARD
END:VTIMEZONE
BEGIN:VEVENT
UID:272-202
DTSTAMP:20260425T164640Z
SUMMARY:Récollection pour messieurs
LOCATION:Résidence Salvagny 37 rue Chevreul  Lyon  69007
ORGANIZER;CN=Vincent:MAILTO:vincent@residence-salvagny.org
DTSTART;TZID=Etc/GMT-1:20230828T190000
DTEND;TZID=Etc/GMT-1:20230828T203000
X-ALT-DESC;FMTTYPE=TEXT/HTML:Octobre 2022 : Sanctifier la vie ordinaire\, l
 ieu de rencontre avec Dieu - Un plan de vie Novembre 2022 : L'espérance d
 u ciel - les bienfaits de l'accompagnement spirituel Décembre 2022 : La s
 ainte famille\, modèle de nos familles - appeler à aimer Janvier 2023 : 
 Suivre Jésus comme les premiers disciples - la grâce…
CATEGORIES:Formation chrétienne pour messieurs
URL;VALUE=URI:https://www.residence-salvagny.org/mc-events/recollections-po
 ur-messieurs-23/
METHOD:PUBLISH
END:VEVENT
END:VCALENDAR