BEGIN:VCALENDAR
VERSION:2.0
PRODID:spatie/icalendar-generator
DESCRIPTION:Évènements de Résidence Salvagny
X-WR-CALDESC:Évènements de Résidence Salvagny
REFRESH-INTERVAL;VALUE=DURATION:PT1440M
X-PUBLISHED-TTL:PT1440M
BEGIN:VTIMEZONE
TZID:Etc/GMT-1
BEGIN:STANDARD
DTSTART:20220829T000000Z
TZOFFSETFROM:+0100
TZOFFSETTO:+0100
END:STANDARD
END:VTIMEZONE
BEGIN:VTIMEZONE
TZID:UTC
BEGIN:STANDARD
DTSTART:20250729T164805Z
TZOFFSETFROM:+0000
TZOFFSETTO:+0000
END:STANDARD
END:VTIMEZONE
BEGIN:VEVENT
UID:289-207
DTSTAMP:20260425T164805Z
SUMMARY:Retraite spirituelle pour messieurs à Puyricard
LOCATION:Puyricard   Aix-en-Provence
ORGANIZER;CN=Vincent:MAILTO:vincent@residence-salvagny.org
DTSTART;TZID=Etc/GMT-1;VALUE=DATE:20230526
DTEND;TZID=Etc/GMT-1;VALUE=DATE:20230530
X-ALT-DESC;FMTTYPE=TEXT/HTML:Puyricard est un centre de formation et de ret
 raite\, à proximité d'Aix-en-Provence. Pour plus d'informations\, écriv
 ez-nous à l'adresse contact@residence-salvagny.org
CATEGORIES:Formation chrétienne pour messieurs
URL;VALUE=URI:https://www.residence-salvagny.org/mc-events/retraite-spiritu
 elle-pour-messieurs-a-puyricard-5/
METHOD:PUBLISH
END:VEVENT
END:VCALENDAR