BEGIN:VCALENDAR
VERSION:2.0
PRODID:spatie/icalendar-generator
DESCRIPTION:Évènements de Résidence Salvagny
X-WR-CALDESC:Évènements de Résidence Salvagny
REFRESH-INTERVAL;VALUE=DURATION:PT1440M
X-PUBLISHED-TTL:PT1440M
BEGIN:VTIMEZONE
TZID:Etc/GMT-1
BEGIN:STANDARD
DTSTART:20220614T000000Z
TZOFFSETFROM:+0100
TZOFFSETTO:+0100
END:STANDARD
END:VTIMEZONE
BEGIN:VTIMEZONE
TZID:UTC
BEGIN:STANDARD
DTSTART:20250729T133707Z
TZOFFSETFROM:+0000
TZOFFSETTO:+0000
END:STANDARD
END:VTIMEZONE
BEGIN:VEVENT
UID:302-220
DTSTAMP:20260425T133707Z
SUMMARY:Récollection pour étudiants
LOCATION:Résidence Salvagny 37 rue Chevreul  Lyon  69007
ORGANIZER;CN=Patrick:MAILTO:patrick@residence-salvagny.org
DTSTART;TZID=Etc/GMT-1;VALUE=DATE:20230311
DTEND;TZID=Etc/GMT-1;VALUE=DATE:20230312
X-ALT-DESC;FMTTYPE=TEXT/HTML:Octobre 2022 : Discernement et vocation Novemb
 re 2022 : Les fins dernières Janvier 2023 : Imiter le Christ Mars 2023 : 
 Carême et conversion Avril 2023 : Résurrection\; semeur de paix et de jo
 ie Mai 2023 : Aimer Marie Juin 2023 : Poser les dernières pierres
CATEGORIES:Formation chrétienne pour étudiants
URL;VALUE=URI:https://www.residence-salvagny.org/mc-events/recollection-pou
 r-etudiants-7/
METHOD:PUBLISH
END:VEVENT
END:VCALENDAR