BEGIN:VCALENDAR
VERSION:2.0
PRODID:spatie/icalendar-generator
DESCRIPTION:Évènements de Résidence Salvagny
X-WR-CALDESC:Évènements de Résidence Salvagny
REFRESH-INTERVAL;VALUE=DURATION:PT1440M
X-PUBLISHED-TTL:PT1440M
BEGIN:VTIMEZONE
TZID:Etc/GMT-1
BEGIN:STANDARD
DTSTART:20220509T000000Z
TZOFFSETFROM:+0100
TZOFFSETTO:+0100
END:STANDARD
END:VTIMEZONE
BEGIN:VTIMEZONE
TZID:UTC
BEGIN:STANDARD
DTSTART:20250729T152228Z
TZOFFSETFROM:+0000
TZOFFSETTO:+0000
END:STANDARD
END:VTIMEZONE
BEGIN:VEVENT
UID:304-222
DTSTAMP:20260425T152228Z
SUMMARY:Retraite spirituelle pour étudiants à Rocherey
LOCATION:Rocherey 601 chemin du château  Saint-Laurent-du-pont  38380
ORGANIZER;CN=Patrick:MAILTO:patrick@residence-salvagny.org
DTSTART;TZID=Etc/GMT-1;VALUE=DATE:20230203
DTEND;TZID=Etc/GMT-1;VALUE=DATE:20230206
X-ALT-DESC;FMTTYPE=TEXT/HTML:Rocherey est une maison située à saint-Laure
 nt-du-Pont (38380)\, à 100km de Lyon Les retraites associent la prière e
 t la réflexion personnelle\, nourries par la prédication d'un prêtre su
 r les aspects majeurs et quotidiens de la vie chrétienne. Les retraites c
 ommencent le Vendredi soir à 20h et se terminent le dimanche vers 16h
CATEGORIES:Formation chrétienne pour étudiants
URL;VALUE=URI:https://www.residence-salvagny.org/mc-events/retraite-spiritu
 elle-pour-etudiants-a-rocherey-2/
METHOD:PUBLISH
END:VEVENT
END:VCALENDAR