BEGIN:VCALENDAR
VERSION:2.0
PRODID:spatie/icalendar-generator
DESCRIPTION:Évènements de Résidence Salvagny
X-WR-CALDESC:Évènements de Résidence Salvagny
REFRESH-INTERVAL;VALUE=DURATION:PT1440M
X-PUBLISHED-TTL:PT1440M
BEGIN:VTIMEZONE
TZID:Etc/GMT-1
BEGIN:STANDARD
DTSTART:20220627T000000Z
TZOFFSETFROM:+0100
TZOFFSETTO:+0100
END:STANDARD
END:VTIMEZONE
BEGIN:VTIMEZONE
TZID:UTC
BEGIN:STANDARD
DTSTART:20250729T164636Z
TZOFFSETFROM:+0000
TZOFFSETTO:+0000
END:STANDARD
END:VTIMEZONE
BEGIN:VEVENT
UID:308-226
DTSTAMP:20260425T164636Z
SUMMARY:Retraite spirituelle pour étudiants à Puyricard
LOCATION:Puyricard   Aix-en-Provence
ORGANIZER;CN=Patrick:MAILTO:patrick@residence-salvagny.org
DTSTART;TZID=Etc/GMT-1;VALUE=DATE:20230324
DTEND;TZID=Etc/GMT-1;VALUE=DATE:20230327
X-ALT-DESC;FMTTYPE=TEXT/HTML:Puyricard est un centre de formation et de ret
 raite\, à proximité d'Aix-en-Provence. Les retraites associent la prièr
 e et la réflexion personnelle\, nourries par la prédication d'un prêtre
  sur les aspects majeurs et quotidiens de la vie chrétienne. début de la
  retraite : vendredi soir à 20h fin de la retraite : dimanche vers 16h
CATEGORIES:Formation chrétienne pour étudiants
URL;VALUE=URI:https://www.residence-salvagny.org/mc-events/retraite-spiritu
 elle-pour-etudiants-a-puyricard-3/
METHOD:PUBLISH
END:VEVENT
END:VCALENDAR