BEGIN:VCALENDAR
VERSION:2.0
PRODID:spatie/icalendar-generator
DESCRIPTION:Évènements de Résidence Salvagny
X-WR-CALDESC:Évènements de Résidence Salvagny
REFRESH-INTERVAL;VALUE=DURATION:PT1440M
X-PUBLISHED-TTL:PT1440M
BEGIN:VTIMEZONE
TZID:Etc/GMT-1
BEGIN:STANDARD
DTSTART:20240909T200000Z
TZOFFSETFROM:+0100
TZOFFSETTO:+0100
END:STANDARD
END:VTIMEZONE
BEGIN:VTIMEZONE
TZID:UTC
BEGIN:STANDARD
DTSTART:20250729T164630Z
TZOFFSETFROM:+0000
TZOFFSETTO:+0000
END:STANDARD
END:VTIMEZONE
BEGIN:VEVENT
UID:372-288
DTSTAMP:20260425T164630Z
SUMMARY:Retraite spirituelle pour messieurs à Rocherey
LOCATION:Rocherey 601 chemin du château  Saint-Laurent-du-pont  38380
ORGANIZER;CN=Vincent:MAILTO:vincent@residence-salvagny.org
DTSTART;TZID=Etc/GMT-1:20250606T200000
DTEND;TZID=Etc/GMT-1:20250609T150000
X-ALT-DESC;FMTTYPE=TEXT/HTML:Les retraites associent la prière et la réfl
 exion personnelle\, nourries par la prédication d’un prêtre sur les as
 pects majeurs et quotidiens de la vie chrétienne. Les retraites ont lieu 
 à Rocherey (Saint-Laurent-du-Pont\, en chartreuse)
CATEGORIES:Formation chrétienne pour messieurs
URL;VALUE=URI:https://www.residence-salvagny.org/mc-events/retraite-spiritu
 elle-pour-messieurs-a-rocherey-13/
METHOD:PUBLISH
END:VEVENT
END:VCALENDAR