BEGIN:VCALENDAR
VERSION:2.0
PRODID:spatie/icalendar-generator
DESCRIPTION:Évènements de Résidence Salvagny
X-WR-CALDESC:Évènements de Résidence Salvagny
REFRESH-INTERVAL;VALUE=DURATION:PT1440M
X-PUBLISHED-TTL:PT1440M
BEGIN:VTIMEZONE
TZID:Etc/GMT-1
BEGIN:STANDARD
DTSTART:20240423T180000Z
TZOFFSETFROM:+0100
TZOFFSETTO:+0100
END:STANDARD
END:VTIMEZONE
BEGIN:VTIMEZONE
TZID:UTC
BEGIN:STANDARD
DTSTART:20250729T164724Z
TZOFFSETFROM:+0000
TZOFFSETTO:+0000
END:STANDARD
END:VTIMEZONE
BEGIN:VEVENT
UID:421-336
DTSTAMP:20260425T164724Z
SUMMARY:Récollection pour étudiants - Filiation divine et Esprit de servi
 ce
LOCATION:Résidence Salvagny 37 rue Chevreul  Lyon  69007
ORGANIZER;CN=Patrick:MAILTO:patrick@residence-salvagny.org
DTSTART;TZID=Etc/GMT-1:20250118T180000
DTEND;TZID=Etc/GMT-1:20250118T193000
X-ALT-DESC;FMTTYPE=TEXT/HTML:
CATEGORIES:Formation chrétienne pour étudiants
URL;VALUE=URI:https://www.residence-salvagny.org/mc-events/recollection-pou
 r-etudiants-filiation-divine-et-esprit-de-service/
METHOD:PUBLISH
END:VEVENT
END:VCALENDAR