BEGIN:VCALENDAR
VERSION:2.0
PRODID:spatie/icalendar-generator
DESCRIPTION:Évènements de Résidence Salvagny
X-WR-CALDESC:Évènements de Résidence Salvagny
REFRESH-INTERVAL;VALUE=DURATION:PT1440M
X-PUBLISHED-TTL:PT1440M
BEGIN:VTIMEZONE
TZID:Etc/GMT-1
BEGIN:STANDARD
DTSTART:20240209T203000Z
TZOFFSETFROM:+0100
TZOFFSETTO:+0100
END:STANDARD
END:VTIMEZONE
BEGIN:VTIMEZONE
TZID:UTC
BEGIN:STANDARD
DTSTART:20250729T164733Z
TZOFFSETFROM:+0000
TZOFFSETTO:+0000
END:STANDARD
END:VTIMEZONE
BEGIN:VEVENT
UID:423-338
DTSTAMP:20260425T164733Z
SUMMARY:Conférence : le métier de poilu\, regards sur les combattants de 
 la Grande Guerre - Erwan Le Gall
LOCATION:Résidence Salvagny 37 rue Chevreul  Lyon  69007
ORGANIZER;CN=Vincent:MAILTO:vincent@residence-salvagny.org
DTSTART;TZID=Etc/GMT-1:20241105T203000
DTEND;TZID=Etc/GMT-1:20241105T213000
X-ALT-DESC;FMTTYPE=TEXT/HTML:
CATEGORIES:Activités culturelles
URL;VALUE=URI:https://www.residence-salvagny.org/mc-events/conference-le-me
 tier-de-poilu-regards-sur-les-combattants-de-la-grande-guerre-erwan-le-gal
 l/
METHOD:PUBLISH
END:VEVENT
END:VCALENDAR